BEGIN:VCALENDAR
VERSION:2.0
PRODID:-//Joint Base San Antonio | JBSA Today - ECPv6.15.20//NONSGML v1.0//EN
CALSCALE:GREGORIAN
METHOD:PUBLISH
X-WR-CALNAME:Joint Base San Antonio | JBSA Today
X-ORIGINAL-URL:https://jbsatoday.com
X-WR-CALDESC:Events for Joint Base San Antonio | JBSA Today
REFRESH-INTERVAL;VALUE=DURATION:PT1H
X-Robots-Tag:noindex
X-PUBLISHED-TTL:PT1H
BEGIN:VTIMEZONE
TZID:UTC
BEGIN:STANDARD
TZOFFSETFROM:+0000
TZOFFSETTO:+0000
TZNAME:UTC
DTSTART:20250101T000000
END:STANDARD
END:VTIMEZONE
BEGIN:VEVENT
DTSTART;VALUE=DATE:20260415
DTEND;VALUE=DATE:20270216
DTSTAMP:20260420T153639
CREATED:20250508T151748Z
LAST-MODIFIED:20260121T134925Z
UID:10000063-1776211200-1802735999@jbsatoday.com
SUMMARY:Escorted Vacations
DESCRIPTION:JBSA-Lackland Leisure Travel Office\nCustomizable dates and flexible occupancy. Packages can be adjusted for solo travelers or additional guests upon request.  All trips include round-trip airfare\, fully guided tour\, hotel accommodations\, pre-night hotel stay\, daily breakfasts\, some additional meals\, and travel protection. \nPrague\, Vienna & Budapest\nApril 15-26\nRates: Start at $4\,100 per person \nHighlights of Spain\nMay 21-31\nRates: Start at $5\,800 per person \nEasy Pace Italy\nJune 12-23\nRates: Start at $6\,700 per person \nSouthern Italy and Sicily\nAug. 4-15\nRates: Start at $5\,800 per person \nBest of South Korea\nSept. 30-0ct. 11\nRates: Start at $7\,100 per person \nClassic Japan\nFeb. 3-15\, 2027\nRates: Start at $8\,900 per person
URL:https://jbsatoday.com/event/escorted-vacations/
LOCATION:LAK Leisure Travel
CATEGORIES:LAK Leisure Travel
ATTACH;FMTTYPE=image/jpeg:https://jbsatoday.com/wp-content/uploads/EscortedVacationsKS26v2-scaled.jpg
END:VEVENT
END:VCALENDAR