BEGIN:VCALENDAR
VERSION:2.0
PRODID:-//Joint Base San Antonio | JBSA Today - ECPv6.15.20//NONSGML v1.0//EN
CALSCALE:GREGORIAN
METHOD:PUBLISH
X-WR-CALNAME:Joint Base San Antonio | JBSA Today
X-ORIGINAL-URL:https://jbsatoday.com
X-WR-CALDESC:Events for Joint Base San Antonio | JBSA Today
REFRESH-INTERVAL;VALUE=DURATION:PT1H
X-Robots-Tag:noindex
X-PUBLISHED-TTL:PT1H
BEGIN:VTIMEZONE
TZID:UTC
BEGIN:STANDARD
TZOFFSETFROM:+0000
TZOFFSETTO:+0000
TZNAME:UTC
DTSTART:20250101T000000
END:STANDARD
END:VTIMEZONE
BEGIN:VEVENT
DTSTART;VALUE=DATE:20260628
DTEND;VALUE=DATE:20260629
DTSTAMP:20260422T113820
CREATED:20250915T190848Z
LAST-MODIFIED:20250915T190848Z
UID:10000106-1782604800-1782691199@jbsatoday.com
SUMMARY:Group Cruises Out of Galveston\, TX
DESCRIPTION:JBSA-Lackland Leisure Travel\nROYAL CARIBBEAN’S HARMONY OF THE SEAS\nDec. 14-21\, 2025\nTravel: Roundtrip from Galveston to Puerto Costa Maya\, Roatan\, and Cozumel\, Mexico Rates: Start at $893 per person \nDISNEY MAGIC\nDec. 24-28\, 2025\nTravel: Roundtrip from Galveston to Progreso\, Mexico Rates: Start at $1529 per person (based on a family of 4 in one room) \nCARNIVAL LEGEND 10-DAY EXOTIC EASTERN CARRIBEAN\nFeb. 16-26\, 2026\nTravel: Roundtrip from Galveston to Celebration Key\, Princess Cays\, Grand Turk\, and Amber Cove Rates: Start at $1054 per person \nCARNIVAL BREEZE SPRING BREAK SAILING\nMarch 9-14\, 2026\nTravel: Roundtrip from Galveston to Progreso and Cozumel\, Mexico. Rates: Start at $744 per person. \nROYAL CARIBBEAN’S HARMONY OF THE SEAS\nJune 21-28\, 2026\nTravel: Roundtrip from Galveston to Roatan\, Honduras\, Puerto Costa Maya\, Mexico\, and Cozumel\, Mexico\nRates: Start at $1287 per person \nFor more information\, call 210-671-1111 or email info@jbsatravel.com
URL:https://jbsatoday.com/event/group-cruises-out-of-galveston-tx/
LOCATION:LAK Leisure Travel
CATEGORIES:LAK Leisure Travel
ATTACH;FMTTYPE=image/jpeg:https://jbsatoday.com/wp-content/uploads/GalvestonCruises_CK25-Janus.jpg
END:VEVENT
BEGIN:VEVENT
DTSTART;VALUE=DATE:20260630
DTEND;VALUE=DATE:20260701
DTSTAMP:20260422T113820
CREATED:20251215T171651Z
LAST-MODIFIED:20260205T161919Z
UID:10000376-1782777600-1782863999@jbsatoday.com
SUMMARY:Weekly Bowling Specials
DESCRIPTION:JBSA-Lackland Bowling Center\nWeekly Specials \nTHREE FOR $9 BOWLING SPECIAL\nTuesdays • 11 a.m. to 9 p.m.\nBowl three games for only $9! Shoe rental is $4 per person. \nFRIDAY FIVE PACK FRENZY\nFridays • 11 a.m. to 3 p.m.\nEnjoy one hour of bowling for $30 per lane for up to five guests. Rental shoes are included. \nCOSMIC BOWLING\nSaturdays • 11 a.m. to 5 p.m.\nBowl with contemporary music and LED lain lighting throughout the center. Guests can enjoy one hour of bowling for $35 per lane for up to five people. Shoe rental is $4 per person. In addition\, a DJ will play all your favorites and take requests. \nFAMILY 4 PACK\nSundays • 11 a.m. to 4 p.m.\nA family of four can enjoy two hours of bowling\, rental shoes\, a large two-topping pizza and four fountain beverages for just $90. \nFor more information\, call (210) 671-1234
URL:https://jbsatoday.com/event/lackland-bowling-center-specials-2/2026-06-30/
LOCATION:LAK Skylark Bowling Center
CATEGORIES:LAK Bowling
ATTACH;FMTTYPE=image/jpeg:https://jbsatoday.com/wp-content/uploads/WeeklyBowlingEventsMarAprLAK_CK-26-8.5x11-Janus.jpg
END:VEVENT
BEGIN:VEVENT
DTSTART;VALUE=DATE:20260630
DTEND;VALUE=DATE:20260701
DTSTAMP:20260422T113820
CREATED:20260127T151042Z
LAST-MODIFIED:20260127T151042Z
UID:10000326-1782777600-1782863999@jbsatoday.com
SUMMARY:Canyon Lake Annual Pass
DESCRIPTION:JBSA Recreation Park at Canyon Lake\nPurchase a Joint Base San Antonio Recreation Park at Canyon Lake annual pass for $100 for you and a spouse and enjoy the lake all summer. This pass gets you into both Sunny Side and Hancock Cove. Otherwise\, the daily entry fee for the park is $15 per visit\, per vehicle.  Annual passes include a vehicle and boat/trailer pass and are valid for one year from date of issue for daily use only\, during the hours we are open. You can also buy a dependent pass for an additional $35 as long as they are over 18 and have a valid DoD ID card.\nFor more information\, please call (830) 964-3576 or email jbsalodgingres@gmail.com
URL:https://jbsatoday.com/event/canyon-lake-annual-pass/2026-06-30/
LOCATION:Recreation Park @ Canyon Lake
CATEGORIES:Canyon Lake
ATTACH;FMTTYPE=image/jpeg:https://jbsatoday.com/wp-content/uploads/AnnualPassCK26.jpg
END:VEVENT
BEGIN:VEVENT
DTSTART;VALUE=DATE:20260703
DTEND;VALUE=DATE:20260707
DTSTAMP:20260422T113820
CREATED:20250922T174744Z
LAST-MODIFIED:20260305T144840Z
UID:10000125-1783036800-1783382399@jbsatoday.com
SUMMARY:Holiday Closures
DESCRIPTION:JBSA-Lackland Gateway Club\nJuly 3-6\nThe Gateway Club will be closed July 3-6 for the 4th of July Weekend. Regular business operations will resume July 7.
URL:https://jbsatoday.com/event/holiday-closures/
LOCATION:LAK Gateway Club
CATEGORIES:LAK Gateway Club
ATTACH;FMTTYPE=image/jpeg:https://jbsatoday.com/wp-content/uploads/JulyFourthWeekendClosure_CK26-Janus.jpg
END:VEVENT
BEGIN:VEVENT
DTSTART;TZID=UTC:20260704T170000
DTEND;TZID=UTC:20260704T210000
DTSTAMP:20260422T113820
CREATED:20251006T210645Z
LAST-MODIFIED:20260130T173301Z
UID:10000172-1783184400-1783198800@jbsatoday.com
SUMMARY:Galactic Bowling
DESCRIPTION:JBSA-Randolph Bowling Center\nSaturdays 5-9 p.m.\nGalactic bowling features cosmic lights with LED center punch deck lighting\, lane capping\, and ceiling lights. In addition\, the experience includes three 118′ projection screens playing family-friendly music videos. Select your preferred exciting option to bowl as shown below. \n\nExperience 1: traditional bowling\nExperience 2: besx madd bowling\nExperience 3: hyperbowling\n\nThe cost for any of these bowling experiences is $35 per hour\, per lane for up to six players. Rental shoes are not included.\nFor more information\, call (210) 652-6271.
URL:https://jbsatoday.com/event/galactic-bowling/2026-07-04/
LOCATION:RND Bowling Center
CATEGORIES:RND Bowling
ATTACH;FMTTYPE=image/jpeg:https://jbsatoday.com/wp-content/uploads/GalacticBowlingKS2026-Janus-scaled.jpg
END:VEVENT
BEGIN:VEVENT
DTSTART;TZID=UTC:20260710T160000
DTEND;TZID=UTC:20260710T220000
DTSTAMP:20260422T113820
CREATED:20260324T131656Z
LAST-MODIFIED:20260324T131656Z
UID:10000419-1783699200-1783720800@jbsatoday.com
SUMMARY:Variety Night
DESCRIPTION:JBSA-Lackland Gateway Club\nJuly 10\, 17 and 24 & Aug. 7\, 14 and 21 | 4-10pm\nThe Gateway Club hosts variety night as DJ Tony Style plays a wide variety of music in the Lone Star Lounge from 4-10 p.m. Relax in the lounge or enjoy the weather on the patio.\nFor more information\, please call (210) 645-7034.
URL:https://jbsatoday.com/event/variety-night/2026-07-10/
LOCATION:LAK Gateway Club
CATEGORIES:LAK Gateway Club
ATTACH;FMTTYPE=image/jpeg:https://jbsatoday.com/wp-content/uploads/VarietyNightJulyAug_ZC26-JANUS.jpg
END:VEVENT
BEGIN:VEVENT
DTSTART;TZID=UTC:20260724T160000
DTEND;TZID=UTC:20260724T220000
DTSTAMP:20260422T113820
CREATED:20260324T131656Z
LAST-MODIFIED:20260324T131656Z
UID:10000420-1784908800-1784930400@jbsatoday.com
SUMMARY:Variety Night
DESCRIPTION:JBSA-Lackland Gateway Club\nJuly 10\, 17 and 24 & Aug. 7\, 14 and 21 | 4-10pm\nThe Gateway Club hosts variety night as DJ Tony Style plays a wide variety of music in the Lone Star Lounge from 4-10 p.m. Relax in the lounge or enjoy the weather on the patio.\nFor more information\, please call (210) 645-7034.
URL:https://jbsatoday.com/event/variety-night/2026-07-24/
LOCATION:LAK Gateway Club
CATEGORIES:LAK Gateway Club
ATTACH;FMTTYPE=image/jpeg:https://jbsatoday.com/wp-content/uploads/VarietyNightJulyAug_ZC26-JANUS.jpg
END:VEVENT
BEGIN:VEVENT
DTSTART;TZID=UTC:20260730T190000
DTEND;TZID=UTC:20260730T220000
DTSTAMP:20260422T113820
CREATED:20260415T152345Z
LAST-MODIFIED:20260415T152345Z
UID:10000469-1785438000-1785448800@jbsatoday.com
SUMMARY:Night Kayaking July
DESCRIPTION:JBSA-Lackland Outdoor Rec\nJuly 30\, Aug. 27 | 7-10pm\nJoin us for a night time paddle on the San Antonio River\, available on the last Thursday of each month from June through August. Deadline to sign up is Friday before the event or when full. Cost is $28 per person\nTo register\, call 210.851.6409 or 210.925.5533 or visit us in person at JBSA-Lackland Outdoor Recreation.
URL:https://jbsatoday.com/event/night-kayaking-july/
LOCATION:LAK Outdoor Recreation
CATEGORIES:LAK Outdoor Rec
ATTACH;FMTTYPE=image/jpeg:https://jbsatoday.com/wp-content/uploads/NightKayakingSARiver_CK26-July-Aug.jpg
END:VEVENT
BEGIN:VEVENT
DTSTART;VALUE=DATE:20260731
DTEND;VALUE=DATE:20260801
DTSTAMP:20260422T113820
CREATED:20260127T151042Z
LAST-MODIFIED:20260127T151042Z
UID:10000327-1785456000-1785542399@jbsatoday.com
SUMMARY:Canyon Lake Annual Pass
DESCRIPTION:JBSA Recreation Park at Canyon Lake\nPurchase a Joint Base San Antonio Recreation Park at Canyon Lake annual pass for $100 for you and a spouse and enjoy the lake all summer. This pass gets you into both Sunny Side and Hancock Cove. Otherwise\, the daily entry fee for the park is $15 per visit\, per vehicle.  Annual passes include a vehicle and boat/trailer pass and are valid for one year from date of issue for daily use only\, during the hours we are open. You can also buy a dependent pass for an additional $35 as long as they are over 18 and have a valid DoD ID card.\nFor more information\, please call (830) 964-3576 or email jbsalodgingres@gmail.com
URL:https://jbsatoday.com/event/canyon-lake-annual-pass/2026-07-31/
LOCATION:Recreation Park @ Canyon Lake
CATEGORIES:Canyon Lake
ATTACH;FMTTYPE=image/jpeg:https://jbsatoday.com/wp-content/uploads/AnnualPassCK26.jpg
END:VEVENT
BEGIN:VEVENT
DTSTART;TZID=UTC:20260731T160000
DTEND;TZID=UTC:20260731T230000
DTSTAMP:20260422T113820
CREATED:20260318T134759Z
LAST-MODIFIED:20260318T134759Z
UID:10000418-1785513600-1785538800@jbsatoday.com
SUMMARY:Summer Bash
DESCRIPTION:JBSA-Lackland Gateway Club\nJuly 31 | 4-11pm\nCelebrate summer in the Lone Star Lounge and listen to some great music provided by DJ Tony Style. The food special of the night is $12 for members and $14 for nonmembers. The special includes BBQ Brisket\, Smoked Sausage Links\, Potato Salad\, Bourbon Baked Beans\, and Cornbread from 3-9pm. There will be prizes for the craziest Hawaiian shirt.\nFor more information\, call 210.645.7034
URL:https://jbsatoday.com/event/summer-bash/
LOCATION:LAK Gateway Club
CATEGORIES:LAK Gateway Club
ATTACH;FMTTYPE=image/jpeg:https://jbsatoday.com/wp-content/uploads/SummerBash_CK26-Janus.jpg
END:VEVENT
BEGIN:VEVENT
DTSTART;TZID=UTC:20260801T170000
DTEND;TZID=UTC:20260801T210000
DTSTAMP:20260422T113820
CREATED:20251006T210645Z
LAST-MODIFIED:20260130T173301Z
UID:10000173-1785603600-1785618000@jbsatoday.com
SUMMARY:Galactic Bowling
DESCRIPTION:JBSA-Randolph Bowling Center\nSaturdays 5-9 p.m.\nGalactic bowling features cosmic lights with LED center punch deck lighting\, lane capping\, and ceiling lights. In addition\, the experience includes three 118′ projection screens playing family-friendly music videos. Select your preferred exciting option to bowl as shown below. \n\nExperience 1: traditional bowling\nExperience 2: besx madd bowling\nExperience 3: hyperbowling\n\nThe cost for any of these bowling experiences is $35 per hour\, per lane for up to six players. Rental shoes are not included.\nFor more information\, call (210) 652-6271.
URL:https://jbsatoday.com/event/galactic-bowling/2026-08-01/
LOCATION:RND Bowling Center
CATEGORIES:RND Bowling
ATTACH;FMTTYPE=image/jpeg:https://jbsatoday.com/wp-content/uploads/GalacticBowlingKS2026-Janus-scaled.jpg
END:VEVENT
BEGIN:VEVENT
DTSTART;TZID=UTC:20260807T160000
DTEND;TZID=UTC:20260807T220000
DTSTAMP:20260422T113820
CREATED:20260324T131656Z
LAST-MODIFIED:20260324T131656Z
UID:10000421-1786118400-1786140000@jbsatoday.com
SUMMARY:Variety Night
DESCRIPTION:JBSA-Lackland Gateway Club\nJuly 10\, 17 and 24 & Aug. 7\, 14 and 21 | 4-10pm\nThe Gateway Club hosts variety night as DJ Tony Style plays a wide variety of music in the Lone Star Lounge from 4-10 p.m. Relax in the lounge or enjoy the weather on the patio.\nFor more information\, please call (210) 645-7034.
URL:https://jbsatoday.com/event/variety-night/2026-08-07/
LOCATION:LAK Gateway Club
CATEGORIES:LAK Gateway Club
ATTACH;FMTTYPE=image/jpeg:https://jbsatoday.com/wp-content/uploads/VarietyNightJulyAug_ZC26-JANUS.jpg
END:VEVENT
BEGIN:VEVENT
DTSTART;TZID=UTC:20260808T073000
DTEND;TZID=UTC:20260808T190000
DTSTAMP:20260422T113820
CREATED:20250923T200247Z
LAST-MODIFIED:20251209T212256Z
UID:10000244-1786174200-1786215600@jbsatoday.com
SUMMARY:Kickapoo Lucky Eagle Casino Trips
DESCRIPTION:JBSA-Information\, Tickets and Travel\nJan. 10\, May 9 and Aug. 8\nThis day trip will depart JBSA-Randolph at 7 a.m. and return back at 7 p.m. (leaves casino at 4 p.m.). The cost is $60 per person.\nFor more information\, call\nJBSA-Fort Sam Houston: (210) 808-1378/1376\nJBSA-Lackland: (210) 671-3059\nJBSA-Randolph: (830) 266-9333\, opt. 3
URL:https://jbsatoday.com/event/kickapoo-lucky-eagle-casino-trips/2026-08-08/
LOCATION:JBSA ITT Offices
CATEGORIES:JBSA ITT
ATTACH;FMTTYPE=image/jpeg:https://jbsatoday.com/wp-content/uploads/KickapooJan_CK25-Janus.jpg
END:VEVENT
BEGIN:VEVENT
DTSTART;TZID=UTC:20260821T160000
DTEND;TZID=UTC:20260821T220000
DTSTAMP:20260422T113820
CREATED:20260324T131656Z
LAST-MODIFIED:20260324T131656Z
UID:10000422-1787328000-1787349600@jbsatoday.com
SUMMARY:Variety Night
DESCRIPTION:JBSA-Lackland Gateway Club\nJuly 10\, 17 and 24 & Aug. 7\, 14 and 21 | 4-10pm\nThe Gateway Club hosts variety night as DJ Tony Style plays a wide variety of music in the Lone Star Lounge from 4-10 p.m. Relax in the lounge or enjoy the weather on the patio.\nFor more information\, please call (210) 645-7034.
URL:https://jbsatoday.com/event/variety-night/2026-08-21/
LOCATION:LAK Gateway Club
CATEGORIES:LAK Gateway Club
ATTACH;FMTTYPE=image/jpeg:https://jbsatoday.com/wp-content/uploads/VarietyNightJulyAug_ZC26-JANUS.jpg
END:VEVENT
BEGIN:VEVENT
DTSTART;TZID=UTC:20260827T190000
DTEND;TZID=UTC:20260827T220000
DTSTAMP:20260422T113820
CREATED:20260415T152505Z
LAST-MODIFIED:20260415T152521Z
UID:10000470-1787857200-1787868000@jbsatoday.com
SUMMARY:Night Kayaking August
DESCRIPTION:JBSA-Lackland Outdoor Rec\nAug. 27 | 7-10pm\nJoin us for a night time paddle on the San Antonio River\, available on the last Thursday of each month from June through August. Deadline to sign up is Friday before the event or when full. Cost is $28 per person\nTo register\, call 210.851.6409 or 210.925.5533 or visit us in person at JBSA-Lackland Outdoor Recreation.
URL:https://jbsatoday.com/event/night-kayaking/
LOCATION:LAK Outdoor Recreation
CATEGORIES:LAK Outdoor Rec
ATTACH;FMTTYPE=image/jpeg:https://jbsatoday.com/wp-content/uploads/NightKayakingSARiver_CK26-Aug.jpg
END:VEVENT
BEGIN:VEVENT
DTSTART;TZID=UTC:20260828T160000
DTEND;TZID=UTC:20260828T220000
DTSTAMP:20260422T113820
CREATED:20260324T131918Z
LAST-MODIFIED:20260324T131918Z
UID:10000423-1787932800-1787954400@jbsatoday.com
SUMMARY:Variety Night & Line Dancing
DESCRIPTION:JBSA-Lackland Gateway Club\nAugust 28 | 4-10pm\nListen to some great music provided by DJ Tony Style in the Lone Star Lounge. Line dance lessons 6-8PM directed by Ms. Mya. Finish the night off by testing your new dancing skills.\nFor more information\, call 210.645.7034
URL:https://jbsatoday.com/event/variety-night-line-dancing/
LOCATION:LAK Gateway Club
CATEGORIES:LAK Gateway Club
ATTACH;FMTTYPE=image/jpeg:https://jbsatoday.com/wp-content/uploads/VarietyLineDance_ZC26-Janus.jpg
END:VEVENT
BEGIN:VEVENT
DTSTART;VALUE=DATE:20260831
DTEND;VALUE=DATE:20260901
DTSTAMP:20260422T113820
CREATED:20260127T151042Z
LAST-MODIFIED:20260127T151042Z
UID:10000328-1788134400-1788220799@jbsatoday.com
SUMMARY:Canyon Lake Annual Pass
DESCRIPTION:JBSA Recreation Park at Canyon Lake\nPurchase a Joint Base San Antonio Recreation Park at Canyon Lake annual pass for $100 for you and a spouse and enjoy the lake all summer. This pass gets you into both Sunny Side and Hancock Cove. Otherwise\, the daily entry fee for the park is $15 per visit\, per vehicle.  Annual passes include a vehicle and boat/trailer pass and are valid for one year from date of issue for daily use only\, during the hours we are open. You can also buy a dependent pass for an additional $35 as long as they are over 18 and have a valid DoD ID card.\nFor more information\, please call (830) 964-3576 or email jbsalodgingres@gmail.com
URL:https://jbsatoday.com/event/canyon-lake-annual-pass/2026-08-31/
LOCATION:Recreation Park @ Canyon Lake
CATEGORIES:Canyon Lake
ATTACH;FMTTYPE=image/jpeg:https://jbsatoday.com/wp-content/uploads/AnnualPassCK26.jpg
END:VEVENT
BEGIN:VEVENT
DTSTART;VALUE=DATE:20260930
DTEND;VALUE=DATE:20261001
DTSTAMP:20260422T113820
CREATED:20260127T151042Z
LAST-MODIFIED:20260127T151042Z
UID:10000329-1790726400-1790812799@jbsatoday.com
SUMMARY:Canyon Lake Annual Pass
DESCRIPTION:JBSA Recreation Park at Canyon Lake\nPurchase a Joint Base San Antonio Recreation Park at Canyon Lake annual pass for $100 for you and a spouse and enjoy the lake all summer. This pass gets you into both Sunny Side and Hancock Cove. Otherwise\, the daily entry fee for the park is $15 per visit\, per vehicle.  Annual passes include a vehicle and boat/trailer pass and are valid for one year from date of issue for daily use only\, during the hours we are open. You can also buy a dependent pass for an additional $35 as long as they are over 18 and have a valid DoD ID card.\nFor more information\, please call (830) 964-3576 or email jbsalodgingres@gmail.com
URL:https://jbsatoday.com/event/canyon-lake-annual-pass/2026-09-30/
LOCATION:Recreation Park @ Canyon Lake
CATEGORIES:Canyon Lake
ATTACH;FMTTYPE=image/jpeg:https://jbsatoday.com/wp-content/uploads/AnnualPassCK26.jpg
END:VEVENT
BEGIN:VEVENT
DTSTART;VALUE=DATE:20261031
DTEND;VALUE=DATE:20261101
DTSTAMP:20260422T113820
CREATED:20260127T151042Z
LAST-MODIFIED:20260127T151042Z
UID:10000330-1793404800-1793491199@jbsatoday.com
SUMMARY:Canyon Lake Annual Pass
DESCRIPTION:JBSA Recreation Park at Canyon Lake\nPurchase a Joint Base San Antonio Recreation Park at Canyon Lake annual pass for $100 for you and a spouse and enjoy the lake all summer. This pass gets you into both Sunny Side and Hancock Cove. Otherwise\, the daily entry fee for the park is $15 per visit\, per vehicle.  Annual passes include a vehicle and boat/trailer pass and are valid for one year from date of issue for daily use only\, during the hours we are open. You can also buy a dependent pass for an additional $35 as long as they are over 18 and have a valid DoD ID card.\nFor more information\, please call (830) 964-3576 or email jbsalodgingres@gmail.com
URL:https://jbsatoday.com/event/canyon-lake-annual-pass/2026-10-31/
LOCATION:Recreation Park @ Canyon Lake
CATEGORIES:Canyon Lake
ATTACH;FMTTYPE=image/jpeg:https://jbsatoday.com/wp-content/uploads/AnnualPassCK26.jpg
END:VEVENT
BEGIN:VEVENT
DTSTART;VALUE=DATE:20261107
DTEND;VALUE=DATE:20261115
DTSTAMP:20260422T113820
CREATED:20251029T124317Z
LAST-MODIFIED:20251029T124317Z
UID:10000212-1794009600-1794700799@jbsatoday.com
SUMMARY:Fall Sailing
DESCRIPTION:JBSA-Leisure Travel\nNov. 7-14\, 2026\nSeven nights to the Bahamas sailing out of Galveston\, TX on the Carnival Dream. Rates start at $828 per person. Gratuities and travel protection can be added. Ports of call include: Key West\, Florida • Celebration Key\, Bahamas\nNassau\, Bahamas. For more information\, call (210) 671-7111.
URL:https://jbsatoday.com/event/fall-sailing/
LOCATION:LAK Leisure Travel
CATEGORIES:LAK Leisure Travel
ATTACH;FMTTYPE=image/jpeg:https://jbsatoday.com/wp-content/uploads/CarnivalBahamasCruise_CK25-Janus.jpg
END:VEVENT
BEGIN:VEVENT
DTSTART;VALUE=DATE:20261130
DTEND;VALUE=DATE:20261201
DTSTAMP:20260422T113820
CREATED:20260127T151042Z
LAST-MODIFIED:20260127T151042Z
UID:10000331-1795996800-1796083199@jbsatoday.com
SUMMARY:Canyon Lake Annual Pass
DESCRIPTION:JBSA Recreation Park at Canyon Lake\nPurchase a Joint Base San Antonio Recreation Park at Canyon Lake annual pass for $100 for you and a spouse and enjoy the lake all summer. This pass gets you into both Sunny Side and Hancock Cove. Otherwise\, the daily entry fee for the park is $15 per visit\, per vehicle.  Annual passes include a vehicle and boat/trailer pass and are valid for one year from date of issue for daily use only\, during the hours we are open. You can also buy a dependent pass for an additional $35 as long as they are over 18 and have a valid DoD ID card.\nFor more information\, please call (830) 964-3576 or email jbsalodgingres@gmail.com
URL:https://jbsatoday.com/event/canyon-lake-annual-pass/2026-11-30/
LOCATION:Recreation Park @ Canyon Lake
CATEGORIES:Canyon Lake
ATTACH;FMTTYPE=image/jpeg:https://jbsatoday.com/wp-content/uploads/AnnualPassCK26.jpg
END:VEVENT
BEGIN:VEVENT
DTSTART;VALUE=DATE:20261231
DTEND;VALUE=DATE:20270101
DTSTAMP:20260422T113820
CREATED:20260127T151042Z
LAST-MODIFIED:20260127T151042Z
UID:10000332-1798675200-1798761599@jbsatoday.com
SUMMARY:Canyon Lake Annual Pass
DESCRIPTION:JBSA Recreation Park at Canyon Lake\nPurchase a Joint Base San Antonio Recreation Park at Canyon Lake annual pass for $100 for you and a spouse and enjoy the lake all summer. This pass gets you into both Sunny Side and Hancock Cove. Otherwise\, the daily entry fee for the park is $15 per visit\, per vehicle.  Annual passes include a vehicle and boat/trailer pass and are valid for one year from date of issue for daily use only\, during the hours we are open. You can also buy a dependent pass for an additional $35 as long as they are over 18 and have a valid DoD ID card.\nFor more information\, please call (830) 964-3576 or email jbsalodgingres@gmail.com
URL:https://jbsatoday.com/event/canyon-lake-annual-pass/2026-12-31/
LOCATION:Recreation Park @ Canyon Lake
CATEGORIES:Canyon Lake
ATTACH;FMTTYPE=image/jpeg:https://jbsatoday.com/wp-content/uploads/AnnualPassCK26.jpg
END:VEVENT
END:VCALENDAR