BEGIN:VCALENDAR
VERSION:2.0
PRODID:-//Joint Base San Antonio | JBSA Today - ECPv6.15.20//NONSGML v1.0//EN
CALSCALE:GREGORIAN
METHOD:PUBLISH
X-WR-CALNAME:Joint Base San Antonio | JBSA Today
X-ORIGINAL-URL:https://jbsatoday.com
X-WR-CALDESC:Events for Joint Base San Antonio | JBSA Today
REFRESH-INTERVAL;VALUE=DURATION:PT1H
X-Robots-Tag:noindex
X-PUBLISHED-TTL:PT1H
BEGIN:VTIMEZONE
TZID:UTC
BEGIN:STANDARD
TZOFFSETFROM:+0000
TZOFFSETTO:+0000
TZNAME:UTC
DTSTART:20250101T000000
END:STANDARD
END:VTIMEZONE
BEGIN:VEVENT
DTSTART;TZID=UTC:20260529T160000
DTEND;TZID=UTC:20260529T220000
DTSTAMP:20260422T113011
CREATED:20250924T192153Z
LAST-MODIFIED:20260121T142702Z
UID:10000311-1780070400-1780092000@jbsatoday.com
SUMMARY:Variety Night
DESCRIPTION:JBSA-Lackland Gateway Club\nMay 1\, 8\, 15 & 29\nJune 1\, 12\, & 26\nThe Gateway Club hosts variety night as DJ Tony Style plays a wide variety of music in the Lone Star Lounge from 4-10 p.m. Relax in the lounge or enjoy the weather on the patio.\nFor more information\, please call (210) 645-7034.
URL:https://jbsatoday.com/event/variety-night-3/2026-05-29/
LOCATION:LAK Gateway Club
CATEGORIES:LAK Gateway Club
ATTACH;FMTTYPE=image/jpeg:https://jbsatoday.com/wp-content/uploads/VarietyNightMayJun_CK26.jpg
END:VEVENT
BEGIN:VEVENT
DTSTART;TZID=UTC:20260626T160000
DTEND;TZID=UTC:20260626T220000
DTSTAMP:20260422T113011
CREATED:20250924T192153Z
LAST-MODIFIED:20260121T142702Z
UID:10000312-1782489600-1782511200@jbsatoday.com
SUMMARY:Variety Night
DESCRIPTION:JBSA-Lackland Gateway Club\nMay 1\, 8\, 15 & 29\nJune 1\, 12\, & 26\nThe Gateway Club hosts variety night as DJ Tony Style plays a wide variety of music in the Lone Star Lounge from 4-10 p.m. Relax in the lounge or enjoy the weather on the patio.\nFor more information\, please call (210) 645-7034.
URL:https://jbsatoday.com/event/variety-night-3/2026-06-26/
LOCATION:LAK Gateway Club
CATEGORIES:LAK Gateway Club
ATTACH;FMTTYPE=image/jpeg:https://jbsatoday.com/wp-content/uploads/VarietyNightMayJun_CK26.jpg
END:VEVENT
END:VCALENDAR